BEGIN:VCALENDAR
VERSION:2.0
PRODID:-//jEvents 1.5 for Joomla//EN
CALSCALE:GREGORIAN
METHOD:PUBLISH
BEGIN:VEVENT

UID:d6575179b6135cc920980590cfa749df
CATEGORIES:Swirl
SUMMARY:Special Valentine's Menu
LOCATION:
DESCRIPTION;ENCODING=QUOTED-PRINTABLE:<p>Join us for a special Valentine's Menu from 4-9pm. Here's link to Valent
 ine's Day Menu at Swirl, Afton House Inn and CURRENT Restaurant... https://
 aftonhouseinn.com/event/valentines-dining-jacuzzifireplace-suites/</p>

DTSTAMP:20260421T184319Z
DTSTART:20240214T220000Z
DTEND:20240215T030000Z
SEQUENCE:0
TRANSP:OPAQUE
END:VEVENT
END:VCALENDAR